BEGIN:VCALENDAR
VERSION:2.0
PRODID:-//C-Suite For Christ Washington, DC, DMV - ECPv6.11.0.1//NONSGML v1.0//EN
CALSCALE:GREGORIAN
METHOD:PUBLISH
X-WR-CALNAME:C-Suite For Christ Washington, DC, DMV
X-ORIGINAL-URL:https://washingtondcdmv.csuiteforchrist.com
X-WR-CALDESC:Events for C-Suite For Christ Washington, DC, DMV
REFRESH-INTERVAL;VALUE=DURATION:PT1H
X-Robots-Tag:noindex
X-PUBLISHED-TTL:PT1H
BEGIN:VTIMEZONE
TZID:America/New_York
BEGIN:DAYLIGHT
TZOFFSETFROM:-0500
TZOFFSETTO:-0400
TZNAME:EDT
DTSTART:20230312T070000
END:DAYLIGHT
BEGIN:STANDARD
TZOFFSETFROM:-0400
TZOFFSETTO:-0500
TZNAME:EST
DTSTART:20231105T060000
END:STANDARD
BEGIN:DAYLIGHT
TZOFFSETFROM:-0500
TZOFFSETTO:-0400
TZNAME:EDT
DTSTART:20240310T070000
END:DAYLIGHT
BEGIN:STANDARD
TZOFFSETFROM:-0400
TZOFFSETTO:-0500
TZNAME:EST
DTSTART:20241103T060000
END:STANDARD
END:VTIMEZONE
BEGIN:VEVENT
DTSTART;TZID=America/New_York:20240103T080000
DTEND;TZID=America/New_York:20240103T080000
DTSTAMP:20260421T054925
CREATED:20231107T150413Z
LAST-MODIFIED:20231107T150413Z
UID:22495-1704268800-1704268800@washingtondcdmv.csuiteforchrist.com
SUMMARY:January Monthly Meeting
DESCRIPTION:Register now!
URL:https://washingtondcdmv.csuiteforchrist.com/event/january-monthly-meeting/
LOCATION:Reston Chamber of Commerce\, 1886 Metro Center Dr\, Suite 150\, Reston\, VA\, 20190\, United States
CATEGORIES:Meeting
END:VEVENT
BEGIN:VEVENT
DTSTART;TZID=America/New_York:20231206T080000
DTEND;TZID=America/New_York:20231206T080000
DTSTAMP:20260421T054925
CREATED:20231107T150247Z
LAST-MODIFIED:20231107T150323Z
UID:22494-1701849600-1701849600@washingtondcdmv.csuiteforchrist.com
SUMMARY:December Monthly Meeting
DESCRIPTION:Register now!
URL:https://washingtondcdmv.csuiteforchrist.com/event/december-monthly-meeting/
LOCATION:Reston Chamber of Commerce\, 1886 Metro Center Dr\, Suite 150\, Reston\, VA\, 20190\, United States
CATEGORIES:Meeting
END:VEVENT
BEGIN:VEVENT
DTSTART;TZID=America/New_York:20231101T073000
DTEND;TZID=America/New_York:20231101T100000
DTSTAMP:20260421T054925
CREATED:20231012T180554Z
LAST-MODIFIED:20231107T150110Z
UID:22472-1698823800-1698832800@washingtondcdmv.csuiteforchrist.com
SUMMARY:November Monthly Meeting
DESCRIPTION:
URL:https://washingtondcdmv.csuiteforchrist.com/event/november-monthly-meeting/
LOCATION:Reston Chamber of Commerce\, 1886 Metro Center Dr\, Suite 150\, Reston\, VA\, 20190\, United States
CATEGORIES:Meeting
END:VEVENT
BEGIN:VEVENT
DTSTART;TZID=America/New_York:20231004T073000
DTEND;TZID=America/New_York:20231004T100000
DTSTAMP:20260421T054925
CREATED:20230808T192915Z
LAST-MODIFIED:20231107T150113Z
UID:22454-1696404600-1696413600@washingtondcdmv.csuiteforchrist.com
SUMMARY:October Monthly Meeting
DESCRIPTION:
URL:https://washingtondcdmv.csuiteforchrist.com/event/monthly-meeting-oct23/
LOCATION:Reston Chamber of Commerce\, 1886 Metro Center Dr\, Suite 150\, Reston\, VA\, 20190\, United States
CATEGORIES:Meeting
END:VEVENT
BEGIN:VEVENT
DTSTART;TZID=America/New_York:20230906T073000
DTEND;TZID=America/New_York:20230906T100000
DTSTAMP:20260421T054925
CREATED:20230217T133219Z
LAST-MODIFIED:20231107T150116Z
UID:21624-1693985400-1693994400@washingtondcdmv.csuiteforchrist.com
SUMMARY:September Monthly Meeting
DESCRIPTION:
URL:https://washingtondcdmv.csuiteforchrist.com/event/monthly-meeting-sept23/
LOCATION:Reston Chamber of Commerce\, 1886 Metro Center Dr\, Suite 150\, Reston\, VA\, 20190\, United States
CATEGORIES:Meeting
END:VEVENT
END:VCALENDAR